BEGIN:VCALENDAR
VERSION:2.0
PRODID:-//GitarreHamburg - ECPv6.2.6//NONSGML v1.0//EN
CALSCALE:GREGORIAN
METHOD:PUBLISH
X-ORIGINAL-URL:https://gitarrehamburg.de
X-WR-CALDESC:Veranstaltungen für GitarreHamburg
REFRESH-INTERVAL;VALUE=DURATION:PT1H
X-Robots-Tag:noindex
X-PUBLISHED-TTL:PT1H
BEGIN:VTIMEZONE
TZID:Europe/Berlin
BEGIN:DAYLIGHT
TZOFFSETFROM:+0100
TZOFFSETTO:+0200
TZNAME:CEST
DTSTART:20260329T010000
END:DAYLIGHT
BEGIN:STANDARD
TZOFFSETFROM:+0200
TZOFFSETTO:+0100
TZNAME:CET
DTSTART:20261025T010000
END:STANDARD
END:VTIMEZONE
BEGIN:VEVENT
DTSTART;TZID=Europe/Berlin:20260206T190000
DTEND;TZID=Europe/Berlin:20260206T203000
DTSTAMP:20260420T141117
CREATED:20260114T122040Z
LAST-MODIFIED:20260114T122156Z
UID:10011316-1770404400-1770409800@gitarrehamburg.de
SUMMARY:Neujahrskonzert in der Haspa Fuhlsbüttel
DESCRIPTION:Das JugendGitarrenOrchester spielt am 06.02.2026 in der Filiale am Erdkampsweg\n \nHamburg\, 12.01.2026\,  Am 06. Februar 2026 um 19:00 Uhr laden die Hamburger Sparkasse und das JugendGitarrenOrchester Hamburg (JGOH) wieder bei freiem Eintritt zu einem Neujahrskonzert in die Haspa Filiale Hamburg-Fuhlsbüttel (Erdkampsweg 26\, 22335 Hamburg) ein. \nNachdem sich das JGOH im vergangenen Jahr den 1. Platz beim Deutschen Orchesterwettbewerb erspielen konnte und Ende Oktober 2025 auch auf einer Tour durch Argentinien überzeugte\, hat es Anfang November einen größeren Umbruch gegeben. Zehn neue – teils sehr junge – Mitglieder wurden in das Ensemble aufgenommen. Das Neujahrskonzert ist der erste Auftritt des neuformierten Ensembles nach dem “Neustart”. Neben Stücken in der gesamten Orchesterbesetzung\, werden Orchestermitglieder zudem Solo- und Kammermusikbeiträge bieten. \nMit dem Konzert möchten sich die Orchestermitglieder einmal mehr für die jahrelange Unterstützung durch die Haspa bedanken. Ganz aktuell wurde es mit Mitteln aus dem Haspa Lotteriesparen unterstützt und viele junge Musiker*innen spielen auf hochwertigen Gitarren aus dem Instrumentenfonds der Haspa Musik Stiftung\, mit der der Träger des Orchesters – die GitarreHamburg.de gGmbH – in 2022 u.a. den Nachwuchswettbewerb “HANSE GUITAR CUP” aus der Taufe hob. \nBeim Neujahrskonzert in der HASPA-Filiale am Erdkampsweg kann man ein vielseitiges Programm aus Beiträgen für Gitarrenquartett und Gitarrentrio erleben. Gespielt wird Musik aus unterschiedlichen Ländern und Epochen. So erklingen u.a. Kompositionen und Arrangements von Andrew York\, Fillipo Gragnani\, Richard Charlton\, Máximo Diego Pujol\, Johanns Sebastian Bach\,  Isaak Albeniz u.v.a. geben. \nDer Eintritt ist frei! \n \nNeujahrskonzert in der HASPA-Fuhlsbüttel\nDatum\, Uhrzeit: 06.02.2026\, 19:00 Uhr\nOrt: HASPA-Filliale Fuhlsbüttel\, Erdkampsweg 26\, 22335 Hamburg\nEintritt: frei
URL:https://gitarrehamburg.de/event/neujahrskonzert-in-der-haspa-fuhlsbuettel-2/
LOCATION:Haspa Filiale Erdkampsweg\, Erdkampsweg 26\, Hamburg\, Hamburg\, 22335\, Deutschland
CATEGORIES:JGOH
ATTACH;FMTTYPE=image/jpeg:https://gitarrehamburg.de/wp-content/uploads/2025/10/IMG-20251025-WA0025-e1761907781662.jpg
END:VEVENT
END:VCALENDAR