BEGIN:VCALENDAR
VERSION:2.0
PRODID:-//GitarreHamburg - ECPv6.2.6//NONSGML v1.0//EN
CALSCALE:GREGORIAN
METHOD:PUBLISH
X-ORIGINAL-URL:https://gitarrehamburg.de
X-WR-CALDESC:Veranstaltungen für GitarreHamburg
REFRESH-INTERVAL;VALUE=DURATION:PT1H
X-Robots-Tag:noindex
X-PUBLISHED-TTL:PT1H
BEGIN:VTIMEZONE
TZID:Europe/Berlin
BEGIN:DAYLIGHT
TZOFFSETFROM:+0100
TZOFFSETTO:+0200
TZNAME:CEST
DTSTART:20260329T010000
END:DAYLIGHT
BEGIN:STANDARD
TZOFFSETFROM:+0200
TZOFFSETTO:+0100
TZNAME:CET
DTSTART:20261025T010000
END:STANDARD
END:VTIMEZONE
BEGIN:VEVENT
DTSTART;TZID=Europe/Berlin:20261105T200000
DTEND;TZID=Europe/Berlin:20261108T210000
DTSTAMP:20260420T114646
CREATED:20260211T092934Z
LAST-MODIFIED:20260211T094841Z
UID:10001367-1793908800-1794171600@gitarrehamburg.de
SUMMARY:Festivalticket - 5 Festivalkonzerte und passive Teilnahme am Hanse Guitar Festival 2026
DESCRIPTION:5 Festivalkonzerte\, alle Vorträge hören\, die Meisterkurse als Beobachter*in miterleben | Im Teilnahmebeitrag ist der Eintritt zu den 5 Konzerten am  05.\, 06.\, 07.  und 08.11.2026 sowie zu allen Vorträgen enthalten. Zudem dürfen Sie den Unterricht bei unseren Dozent*innen Ana Vidovic\, Stephanie Jones\, Alexandra Wittingham\, Giampaolo Bandini\, Johannes Tonio Kreusch u.v.a. am Samstag und Sonntag aus der beobachtenden Perspektive mitverfolgen. \nOrte:Die Kurse und Vorträge finden im Kulturhof Dulsberg (Alter Teichweg 200\, 22049 Hamburg) statt. \nDas Jubiläumskonzert “20 Jahre JugendGitarrenOrchester Hamburg” am 05.11.2026 findet im Rudolf Steiner Haus\, Mittelweg 11-12\, 20148 Hamburg statt. \nDie Konzerte am 06.11.\, 07.11. und 08.11.2026 finden ebenfalls im Kulturhof Dulsberg statt. \nTeilnahmebeitrag: 88\,00 € \nErmäßigung für Schüler*innen und Student*innen: 10 % (79\,20 €)\nTeilnahmebedingungen &#8211; hier klicken!
URL:https://gitarrehamburg.de/event/festivalticket-hgf-2026/
LOCATION:Kulturhof Dulsberg\, Alter Teichweg 200\, Hamburg\, Hamburg\, 22049\, Deutschland
CATEGORIES:GITARRENFESTIVAL,GITARRENFESTIVAL | KONZERTE,GITARRENFESTIVAL | KURSE & WORKSHOPS
ATTACH;FMTTYPE=image/jpeg:https://gitarrehamburg.de/wp-content/uploads/2022/03/hamburger-gitarrenfestival-festivalticket.jpg
ORGANIZER;CN="GitarreHamburg.de gGmbH":MAILTO:info@gitarrehamburg.de
END:VEVENT
BEGIN:VEVENT
DTSTART;TZID=Europe/Berlin:20261105T200000
DTEND;TZID=Europe/Berlin:20261108T210000
DTSTAMP:20260420T114646
CREATED:20260211T093013Z
LAST-MODIFIED:20260211T095154Z
UID:10001368-1793908800-1794171600@gitarrehamburg.de
SUMMARY:Konzertgitarre - Aktive Teilnahme am 12. Hamburger Gitarrenfestival (inkl. Festivalkonzerten)
DESCRIPTION:Im Teilnahmebeitrag ist der Eintritt zu den 5 Konzerten am  05.\, 06.\, 07. und 08.11.2026 sowie zu allen Vorträgen enthalten.\nSie erhalten zwei Unterrichtseinheiten von zwei verschiedenen Dozent*innen.\nZudem dürfen Sie den Unterricht bei unseren Dozent*innen Ana Vidovic\, Stephanie Jones\, Alexandra Wittingham\, Giampaolo Bandini und Johannes Tonio Kreusch am Samstag und Sonntag aus der beobachtenden Perspektive  mitverfolgen. \nOrte:\nDie Kurse und Vorträge finden im Kulturhof Dulsberg (Alter Teichweg 200\, 22049 Hamburg) statt.\nDas Jubiläumskonzert &#8220;20 Jahre JugendGitarrenOrchester Hamburg&#8221; am 05.11.2026 findet im Rudolf Steiner Haus\, Mittelweg 11-12\, 20148 Hamburg statt.\nDie Konzerte am 06.11.\, 07.11. und 08.11.2026 finden ebenfalls im Kulturhof Dulsberg statt. \n \nTeilnahmebeitrag: 148\,00 €\nErmäßigung für Schüler*innen und Student*innen: 10 % (133\,20 €)\nTeilnahmebedingungen &#8211; hier klicken!
URL:https://gitarrehamburg.de/event/konzertgitarre-aktive-teilnahme-am-12-hamburger-gitarrenfestival-inkl-festivalkonzerte/
LOCATION:Kulturhof Dulsberg\, Alter Teichweg 200\, Hamburg\, Hamburg\, 22049\, Deutschland
CATEGORIES:GITARRENFESTIVAL,GITARRENFESTIVAL | KURSE & WORKSHOPS
ATTACH;FMTTYPE=image/jpeg:https://gitarrehamburg.de/wp-content/uploads/2022/03/hamburger-gitarrenfestival-aktive-Teilnahme.jpg
ORGANIZER;CN="GitarreHamburg.de gGmbH":MAILTO:info@gitarrehamburg.de
END:VEVENT
BEGIN:VEVENT
DTSTART;TZID=Europe/Berlin:20261105T200000
DTEND;TZID=Europe/Berlin:20261108T210000
DTSTAMP:20260420T114646
CREATED:20260211T093358Z
LAST-MODIFIED:20260211T094516Z
UID:10001371-1793908800-1794171600@gitarrehamburg.de
SUMMARY:Fingerstyle-Workshops mit Jaco Liu\, Julie Malia\, Don Ross und Alexandr Misko
DESCRIPTION:Wir bieten 2026 mit Julie Malia (alias Jule Malischke)\, Don Ross\, Alexandr Misko und Jaco Liu vier verschiedene Dozent*innen für die Fingerstyleworkshops.  Von dem/der gewählten Dozenten/Dozentin erhalten Sie jeweils 6 Stunden Unterricht in der Gruppe (Sa\, 07.11. zwischen 10:00 und 18:00 Uhr). \nIm Teilnahmebeitrag ist der Eintritt zu den 5 Konzerten am  05.\, 06.\, 07. und 08.11.2026 sowie zu allen Vorträgen enthalten. \nOrte:\nDie Workshops finden im Kulturhof Dulsberg (Alter Teichweg 200\, 22049 Hamburg) statt. \nDas Jubiläumskonzert “20 Jahre JugendGitarrenOrchester Hamburg” am 05.11.2026 findet im Rudolf Steiner Haus\, Mittelweg 11-12\, 20148 Hamburg statt. \nDie Konzerte am 06.11.\, 07.11. und 08.11.2026 finden ebenfalls im Kulturhof Dulsberg statt.\n\n \n \n \nTeilnahmebeitrag: 138\,00 € bzw\nSchüler:innen und Student:innenermäßigung: 10 % (124\,20€)\nTeilnahmebedingungen &#8211; hier klicken!
URL:https://gitarrehamburg.de/event/fingerstyle-workshops-mit-alexandr-misko-don-ross-julie-malia-und-jaco-liu/
LOCATION:Kulturhof Dulsberg\, Alter Teichweg 200\, Hamburg\, Hamburg\, 22049\, Deutschland
CATEGORIES:GITARRENFESTIVAL,GITARRENFESTIVAL | KURSE & WORKSHOPS
ATTACH;FMTTYPE=image/jpeg:https://gitarrehamburg.de/wp-content/uploads/2022/03/hgf_profilbild-workshop.jpg
ORGANIZER;CN="GitarreHamburg.de gGmbH":MAILTO:info@gitarrehamburg.de
END:VEVENT
BEGIN:VEVENT
DTSTART;TZID=Europe/Berlin:20261105T200000
DTEND;TZID=Europe/Berlin:20261108T210000
DTSTAMP:20260420T114646
CREATED:20260211T093457Z
LAST-MODIFIED:20260323T122203Z
UID:10001372-1793908800-1794171600@gitarrehamburg.de
SUMMARY:Workshop – “Lateinamerikanische Rhythmen auf der Gitarre” mit Rodrigo Guzman
DESCRIPTION:Dozent: Rodrigo Guzman \nIn diesem Workshop werden die Teilnehmenden in die südamerikanische Musik auf der Gitarre eintauchen und sich mit Rhythmen und Percussions-Techniken lateinamerikanischer und karibischer Tänze wie Cumbia\, Son\, Merengue und Bossanova u.a. auseinandersetzen. Inhalte sind das Erlernen der typischen Basslinien und rhythmisch-melodischer Patterns\, das Übertragen percussiver Elemente auf die Gitarre übertragen (Bongos\, Claves\, Conga usw.) u.a. Erfahrungen mit Liedbegleitung und Grundlagen des Notenlesens wären von Vorteil. Dieser Workshop wurde bereits erfolgreich bei den anderen Gitarrenfestivals\, für das Musikschulmanagement in Österreich und an der FHNW in der Schweiz durchgeführt. \nIm Teilnahmebeitrag ist der Eintritt zu den 5 Konzerten am  05.\, 06.\, 07. und 08.11.2026 sowie zu allen Vorträgen enthalten. \nOrte:\nDer Workshop findet im Kulturhof Dulsberg (Alter Teichweg 200\, 22049 Hamburg) statt. \nDas Jubiläumskonzert “20 Jahre JugendGitarrenOrchester Hamburg” am 05.11.2026 findet im Rudolf Steiner Haus\, Mittelweg 11-12\, 20148 Hamburg statt. \nDie Konzerte am 06.11.\, 07.11. und 08.11.2026 finden ebenfalls im Kulturhof Dulsberg statt. \n \nTeilnahmebeitrag: 138\,00 €\nSchüler und Studentenermäßigung: 10 % (124\,20€)\nTeilnahmebedingungen – hier klicken!
URL:https://gitarrehamburg.de/event/workshop-lateinamerikanische-rhythmen-auf-der-gitarre-mit-rodrigo-guzman/
LOCATION:Kulturhof Dulsberg\, Alter Teichweg 200\, Hamburg\, Hamburg\, 22049\, Deutschland
CATEGORIES:GITARRENFESTIVAL,GITARRENFESTIVAL | KURSE & WORKSHOPS
ATTACH;FMTTYPE=image/jpeg:https://gitarrehamburg.de/wp-content/uploads/2022/03/Logo-HGF-2024-Suedamerikanische-Gitarre-e1712311339361.jpg
ORGANIZER;CN="GitarreHamburg.de gGmbH":MAILTO:info@gitarrehamburg.de
END:VEVENT
BEGIN:VEVENT
DTSTART;TZID=Europe/Berlin:20261105T200000
DTEND;TZID=Europe/Berlin:20261108T210000
DTSTAMP:20260420T114646
CREATED:20260211T093512Z
LAST-MODIFIED:20260211T094653Z
UID:10011317-1793908800-1794171600@gitarrehamburg.de
SUMMARY:Workshop - “Flamencogitarre” mit Emma Campàs
DESCRIPTION:Dozentin: Emma Campàs \nDer Kurs richtet sich an Neulinge des Flamencos aber auch an fortgeschrittene Spieler*innen. Es werden grundlegende Flamenco-Techniken erarbeitet und ebenso grundlegende Flamenco-Rhythmen\, die auch wiederkehrende Rhythmen in vielen lateinamerikanischen Musikstücken sind. Grundkenntnisse über Akkorde sollten vorhanden sein\, Noten und Tabulatur werden während des Workshops ausgehändigt. Notenlesen ist keine Voraussetzung für die Teilnahme. (Sa\, 09.11. zwischen 10:00 und 18:00 Uhr).\nIm Teilnahmebeitrag ist der Eintritt zu den 5 Konzerten am 05.\, 06.\, 07. und 08.11.2026 enthalten. \nOrte:\nDer Workshop findet im Kulturhof Dulsberg (Alter Teichweg 200\, 22049 Hamburg) statt. \nDas Jubiläumskonzert “20 Jahre JugendGitarrenOrchester Hamburg” am 05.11.2026 findet im Rudolf Steiner Haus\, Mittelweg 11-12\, 20148 Hamburg statt. \nDie Konzerte am 06.11.\, 07.11. und 08.11.2026 finden ebenfalls im Kulturhof Dulsberg statt. \nTeilnahmebeitrag: 138\,00 €  \nSchüler und Studentenermäßigung: 10 % (124\,20)\nTeilnahmebedingungen &#8211; hier klicken!
URL:https://gitarrehamburg.de/event/workshop-flamencogitarre-mit-emma-campas/
LOCATION:Kulturhof Dulsberg\, Alter Teichweg 200\, Hamburg\, Hamburg\, 22049\, Deutschland
CATEGORIES:GITARRENFESTIVAL,GITARRENFESTIVAL | KURSE & WORKSHOPS
ATTACH;FMTTYPE=image/jpeg:https://gitarrehamburg.de/wp-content/uploads/2022/03/workshop-flamencogitarre.jpg
ORGANIZER;CN="GitarreHamburg.de gGmbH":MAILTO:info@gitarrehamburg.de
END:VEVENT
BEGIN:VEVENT
DTSTART;TZID=Europe/Berlin:20261105T200000
DTEND;TZID=Europe/Berlin:20261108T210000
DTSTAMP:20260420T114646
CREATED:20260211T093529Z
LAST-MODIFIED:20260323T122836Z
UID:10001373-1793908800-1794171600@gitarrehamburg.de
SUMMARY:Workshop –  “Gypsy Jazz” mit Giovanni Weiss
DESCRIPTION:Dozent: Giovanni Weiss \nWir bieten in diesem Jahr einen Workshop zum Thema Gypsy Jazz mit Giovanni Weiss an. Bei ihm werden Sie an diesem Wochenende insgesamt 6 Stunden Gruppenunterricht (Sa\, 07.11. zwischen 10:00 und 18:00 Uhr) erhalten.\nIm Teilnahmebeitrag ist der Eintritt zu den 5 Konzerten am  05.\, 06.\, 07. und 08.11.2026 sowie zu allen Vorträgen enthalten. \nOrte:\nDer Workshop findet im Kulturhof Dulsberg (Alter Teichweg 200\, 22049 Hamburg) statt.\nDas Jubiläumskonzert “20 Jahre JugendGitarrenOrchester Hamburg” am 05.11.2026 findet im Rudolf Steiner Haus\, Mittelweg 11-12\, 20148 Hamburg statt.\nDie Konzerte am 06.11.\, 07.11. und 08.11.2026 finden ebenfalls im Kulturhof Dulsberg statt. \nTeilnahmebeitrag: 138\,00 €\nSchüler und Studentenermäßigung: 10 % (124\,20€)\nTeilnahmebedingungen – hier klicken!
URL:https://gitarrehamburg.de/event/workshop-gypsy-jazz-mit-giovanni-weiss/
LOCATION:Kulturhof Dulsberg\, Alter Teichweg 200\, Hamburg\, Hamburg\, 22049\, Deutschland
CATEGORIES:GITARRENFESTIVAL,GITARRENFESTIVAL | KURSE & WORKSHOPS
ATTACH;FMTTYPE=image/jpeg:https://gitarrehamburg.de/wp-content/uploads/2022/03/gitarrenfestival-workshop-gypsy-jazz.jpg
ORGANIZER;CN="GitarreHamburg.de gGmbH":MAILTO:info@gitarrehamburg.de
END:VEVENT
BEGIN:VEVENT
DTSTART;TZID=Europe/Berlin:20261108T080000
DTEND;TZID=Europe/Berlin:20261108T180000
DTSTAMP:20260420T114646
CREATED:20260211T094315Z
LAST-MODIFIED:20260211T095729Z
UID:10011319-1794124800-1794160800@gitarrehamburg.de
SUMMARY:Kostenlose Gitarren-Schnupperkurse für Kinder
DESCRIPTION:Lust auf Gitarre? Dann einfach ausprobieren!\n\n \nKinder\, die das Gitarrespielen einfach einmal ausprobieren wollen\, können in diesem Kurs kostenlos die ersten Erfahrungen auf dem Instrument sammeln. In rund einer Stunde lernt ihr das Instrument und die Haltung kennen und spielt gleich Eure ersten Lieder. Kursleiterin ist Laura Mieke Visje\, die Musik studiert hat und Lehrerin sowie Orchesterleiterin in unserem Projekt „Gitarre Billstedt“ ist. Unterstützt wird sie dabei von zwei erfahrenen Mitgliedern aus dem JugendGitarrenOrchester Hamburg. Ein eigenes Instrument oder Vorkenntnisse sind nicht nötig! \nTermine\nSonntag\, den 08.11.2025\, 09:30 Uhr\nSonntag\, den 08.11.2025\, 15:00 Uhr\nSonntag\, den 08.11.2025\, 17:00 Uhr \nOrt\nKulturhof Dulsberg\, Alter Teichweg 200\, 22049 Hamburg \nDie wichtigsten Fragen kurz beantwortet:\nWas ist\, wenn ich keine Gitarre habe?\nInstrumente und Zubehör werden gestellt\, man braucht nichts mitzubringen aus etwas Neugier und möglichst gute Laune. \nMuss ich schon Noten lesen können?\nEs sind keinerlei Vorkenntnisse nötig. \nWas kostet der Kurs?\nDie Teilnahme ist vollkommen kostenlos! \nWie alt muss ich sein?\nKinder ab ca. 6 Jahren können dabei sein. Bitte gebt bei der Anmeldung das Alter an\, damit wir die Gruppen möglichst passend zusammenstellen können. \nWer erteilt den Unterricht? \n \nEure Lehrerin ist Laura Mieke Visje. Sie studiert seit 2019 an der Hochschule für Musik und Theater Hamburg Schulmusik mit dem Hauptfach Gitarre. Außerdem ist sie vielfache Jugend musiziert-Preisträgerin und hat als Mitglied des JugendGitarrenOrchesters Hamburg (JGOH) in 2025 den Deutschen Orchesterwettbewerb gewonnen. Seit einigen Jahren unterrichtet sie selbst begeistert Kinder auf der Gitarre und ihre ersten Schüler*innen wurden selbst Preisträger*innen im Wettbewerb Jugend musiziert. Seit 2025 leitet sie das JGOH Juniorteam Ost. \nWie melde ich mich an?\nEntweder hier &#8211; siehe unten &#8211;  online oder per Email info@hamburger-gitarrenfestival.de mit folgenden Angaben:\n \n\nName und Vorname des Kindes\nAlter des Kindes\nName und Vorname des Erziehungsberechtigten\nAdresse\, PLZ\, Ort\nTelefonnummer\n\nNoch fragen? Dann schreibt uns: info@hamburger-gitarrenfestival.de
URL:https://gitarrehamburg.de/event/kostenlose-gitarren-schnupperkurse-fuer-kinder/
LOCATION:Kulturhof Dulsberg\, Alter Teichweg 200\, Hamburg\, Hamburg\, 22049\, Deutschland
CATEGORIES:GITARRENFESTIVAL,GITARRENFESTIVAL | KURSE & WORKSHOPS
ATTACH;FMTTYPE=image/jpeg:https://gitarrehamburg.de/wp-content/uploads/2020/10/hgf_profilbild.jpg
ORGANIZER;CN="GitarreHamburg.de gGmbH":MAILTO:info@gitarrehamburg.de
END:VEVENT
BEGIN:VEVENT
DTSTART;TZID=Europe/Berlin:20261108T110000
DTEND;TZID=Europe/Berlin:20261108T123000
DTSTAMP:20260420T114646
CREATED:20260226T110413Z
LAST-MODIFIED:20260410T094135Z
UID:10011326-1794135600-1794141000@gitarrehamburg.de
SUMMARY:Konzert mit Stephanie Jones & Alexandra Wittingham
DESCRIPTION:08.11.2026 – Matineekonzert mit Stephanie Jones & Alexandra Wittingham\nOrt: Kulturhof Dulsberg\, Alter Teichweg 200\, 22049 Hamburg\nUhrzeit: 11:00 Uhr &#8211; 12:30 Uhr\nEintritt: 25\,00 €\, ermäßigt 17\,00 € (zzgl. Eventimgebühr)\nErmäßigung: Die Ermäßigung gilt für Schüler*innen\, Student*innen und Bezieher*innen von Arbeitslosengeld II\, Bezieher*innen von Grundsicherung und FSJler*innen)\nVorverkauf: An allen bekannten Vorverkaufsstellen\, über www.eventim.de/hanse-guitar-festival-2026 oder die Bestellhotline (Mo-Sa von 09:00 bis 18:00 Uhr):  01806-570070 (0\,20 €/Anruf inkl. MwSt aus allen dt. Netzen) \n \nAlexandra Whittingham | Alexandra Whittingham zählt zu den angesehensten klassischen Gitarristinnen der neuen Generation. Ihre technisch perfekten\, zugleich tief emotionalen Interpretationen haben ihr weltweit Anerkennung eingebracht – und ein Millionenpublikum im Internet. Am 30. Oktober 2025 wird sie im Rahmen der „Nacht der Gitarren“ in der St.-Johannis-Kirche auf Fehmarn zu erleben sein\, einem der Höhepunkte der diesjährigen Gitarrenfestivals in Europa. \nAlexandra Whittinghams musikalische Laufbahn begann im Alter von fünf Jahren in ihrer Heimatstadt Manchester. Mit elf wurde sie an der renommierten Chetham’s School of Music aufgenommen\, wo sie klassische Gitarre\, Klavier\, Jazzgitarre und Komposition studierte. Später erhielt sie ein Stipendium für die Royal Academy of Music in London\, die sie mit Auszeichnung abschloss. Schon während des Studiums begann sie\, ihre Auftritte auf YouTube zu teilen – und erreichte damit ein weltweites Publikum. Ihre Videos\, oft in einer alten Mühle aufgenommen\, verzeichneten Millionen von Aufrufen und machten sie zu einer der bekanntesten jungen Gitarristinnen der Szene. \nWhittingham hat sich nicht nur als Solistin\, sondern auch als Kuratorin und Arrangeurin einen Namen gemacht. Ihr Debütalbum\, eine Sammlung europäischer Gitarrenstücke des 19. und frühen 20. Jahrhunderts\, wurde von der Kritik gefeiert. 2024 unterschrieb sie einen Vertrag bei Decca Classics\, einem der ältesten und angesehendsten Labels der Klassikbranche. Ihre Auftritte führten sie auf internationale Bühnen\, darunter das South by Southwest Festival in Texas\, das Rome Guitar Expo und das Cayman Islands Arts Festival. Classic FM ernannte sie 2022 zum „Rising Star“; 2025 gab sie ihr Debüt bei Classic FM Live. \nStephanie Jones ist die erfolgreichste australische Gitarristin der jungen Generation. Mit ihren energiegeladenen und liebevollen Auftritten fasziniert sie ihr Publikum rund um die Weltkugel. Das Studium bei Koryphäen der Musikwelt brachte ihr eine umfassende künstlerische Bildung und perfektionierte ihre musikalische und emotionale Auffassungsgabe. \nStephanies Leidenschaft zur Musik begann schon in sehr frühem Alter. Multiinstrumental aufgewachsen\, fing sie zunächst mit dem Klavier an und lernte bald auch Violine\, Viola\, Saxofon und Querflöte zu spielen und schätzen. Letztendlich war es aber die Gitarre mit ihrer bezaubernden Klangvielfalt und großen Bandbreite\, die ihr besonders ans Herz wuchs und ihre künstlerische Reifung am intensivsten begleitete. Seit Ende 2015 studiert Stephanie auf einen Master of Music an der hoch angesehenen Hochschule für Musik FRANZ LISZT Weimar bei Prof. Thomas Müller-Pering. Zuvor schloss sie ein Studium an der Australian National University in Canberra mit Bestnoten ab. \nIn diesen vier Jahren genoss sie in der überaus produktiven „Talentschmiede“ von Timothy Kein und Minh Le Hoang Unterricht und wurde von einer Vielzahl verschiedener Australischer Institutionen und Stipendien gefördert. Sie ist Preisträgerin zahlreicher nationaler und internationaler Musikwettbewerbe und anderer Auszeichnungen. \nStephanie hat in ihrem jungen Alter bereits mehrere internationale Konzerttourneen gespielt und brilliert auch als erfolgreiche Kammermusikerin u. a. mit dem Weimar Guitar Quartet. Ihr künstlerisches Schaffen ist in bisher zwei Alben dokumentiert: Colours of Spain (2015) und Bach\, the Fly and the Microphone (2009). \nVorverkauf: An allen bekannten Vorverkaufsstellen\, über www.eventim.de/hanse-guitar-festival-2026 oder die Bestellhotline (Mo-Sa von 09:00 bis 18:00 Uhr):  01806-570070 (0\,20 €/Anruf inkl. MwSt aus allen dt. Netzen)
URL:https://gitarrehamburg.de/event/konzert-mit-stephanie-jones-alexandra-wittingham/
LOCATION:Kulturhof Dulsberg\, Alter Teichweg 200\, Hamburg\, Hamburg\, 22049\, Deutschland
CATEGORIES:GITARRENFESTIVAL,GITARRENFESTIVAL | KONZERTE
ATTACH;FMTTYPE=image/jpeg:https://gitarrehamburg.de/wp-content/uploads/2026/02/AlexSteph2-scaled.jpg
ORGANIZER;CN="GitarreHamburg.de gGmbH":MAILTO:info@gitarrehamburg.de
END:VEVENT
BEGIN:VEVENT
DTSTART;TZID=Europe/Berlin:20261108T133000
DTEND;TZID=Europe/Berlin:20261108T150000
DTSTAMP:20260420T114646
CREATED:20260317T115954Z
LAST-MODIFIED:20260317T115954Z
UID:10011339-1794144600-1794150000@gitarrehamburg.de
SUMMARY:Finale "Hanse Guitar Cup" - Konzertgitarre
DESCRIPTION:Unter dem Titel „HANSE GUITAR CUP“ wird erneut ein internationaler Nachwuchswettbewerb in das Programm der Hamburger Gitarrentage integriert.Nach einer Bewerbungsrunde werden 12 junge Gitarrist*innen in der Art eines Turniers in 6 verschiedenen Nachbarschafsfilialen der Haspa je drei Finalist*innen in den Kategorien „Konzertgitarre“ und „Popular Guitar Styles“ ausspielen. Das Finale findet auf der Bühne des Hamburger Gitarrenfestivals statt. Die Gewinner*innen des Wettbewerbs erhalten im darauffolgenden Jahr u.a. ein Engagement im Rahmen der Hamburger Gitarrentage oder des Hamburger Gitarrenfestivals 2028 sowie weitere Preise. Der Eintritt zu allen Wettbewerbskonzerten ist frei.Eintritt frei!Weitere Informationen: www.hanseguitarcup.de
URL:https://gitarrehamburg.de/event/finale-hanse-guitar-cup-konzertgitarre/
LOCATION:Hamburg
CATEGORIES:GITARRENFESTIVAL
ATTACH;FMTTYPE=image/jpeg:https://gitarrehamburg.de/wp-content/uploads/2024/02/240201_HGC_Post_1280x628px_Step2_v1.jpg
ORGANIZER;CN="GitarreHamburg.de":MAILTO:info@gitarrehamburg.de
END:VEVENT
BEGIN:VEVENT
DTSTART;TZID=Europe/Berlin:20261108T183000
DTEND;TZID=Europe/Berlin:20261108T203000
DTSTAMP:20260420T114646
CREATED:20260226T110428Z
LAST-MODIFIED:20260410T094426Z
UID:10011324-1794162600-1794169800@gitarrehamburg.de
SUMMARY:“Flamenco meets Latin” mit Emma Campàs\, Rodrigo Guzmán & Duo Bandini-Chiacchiaretta
DESCRIPTION:08.11.2026\, 18:30 Uhr – “Flamenco meets Latin” mit Emma Campàs\, Rodrigo Guzmán & Duo Bandini-Chiacchiaretta\nDas rauschende Finalevon Hamburgs Gitarrenfestival ist traditionell dem Flamenco und der Musik Südamerikas gewidmet. Mit dabei sind die begnadete Flamencogitarristin Emma Campàs\, Rodrigo Guzmán und das Tango-Duo Bandini-Chiacchiaretta. \nOrt: Kulturhof Dulsberg\, Alter Teichweg 200\, 22049 Hamburg\nUhrzeit: 18:30 &#8211; 20:30 Uhr\nEintritt: 25\,00 €\, ermäßigt 17\,00 € (zzgl. Eventimgebühr)\nErmäßigung: Die Ermäßigung gilt für Schüler*innen\, Student*innen und Bezieher*innen von Arbeitslosengeld II\, Bezieher*innen von Grundsicherung und FSJler*innen)\nVorverkauf: An allen bekannten Vorverkaufsstellen\, über www.eventim.de/hanse-guitar-festival-2026 oder die Bestellhotline (Mo-Sa von 09:00 bis 18:00 Uhr):  01806-570070 (0\,20 €/Anruf inkl. MwSt aus allen dt. Netzen) \n \n
URL:https://gitarrehamburg.de/event/flamenco-meets-latin-2026/
LOCATION:Kulturhof Dulsberg\, Alter Teichweg 200\, Hamburg\, Hamburg\, 22049\, Deutschland
CATEGORIES:GITARRENFESTIVAL,GITARRENFESTIVAL | KONZERTE
ATTACH;FMTTYPE=image/jpeg:https://gitarrehamburg.de/wp-content/uploads/2026/02/Flamenco-meets-Latin400Kachel.jpg
ORGANIZER;CN="GitarreHamburg.de gGmbH":MAILTO:info@gitarrehamburg.de
END:VEVENT
END:VCALENDAR