BEGIN:VCALENDAR
VERSION:2.0
PRODID:-//GitarreHamburg - ECPv6.2.6//NONSGML v1.0//EN
CALSCALE:GREGORIAN
METHOD:PUBLISH
X-ORIGINAL-URL:https://gitarrehamburg.de
X-WR-CALDESC:Veranstaltungen fÃ¼r GitarreHamburg
REFRESH-INTERVAL;VALUE=DURATION:PT1H
X-Robots-Tag:noindex
X-PUBLISHED-TTL:PT1H
BEGIN:VTIMEZONE
TZID:Europe/Berlin
BEGIN:DAYLIGHT
TZOFFSETFROM:+0100
TZOFFSETTO:+0200
TZNAME:CEST
DTSTART:20250330T010000
END:DAYLIGHT
BEGIN:STANDARD
TZOFFSETFROM:+0200
TZOFFSETTO:+0100
TZNAME:CET
DTSTART:20251026T010000
END:STANDARD
END:VTIMEZONE
BEGIN:VEVENT
DTSTART;TZID=Europe/Berlin:20250621T100000
DTEND;TZID=Europe/Berlin:20250621T163000
DTSTAMP:20260420T200157
CREATED:20250226T123931Z
LAST-MODIFIED:20250226T123931Z
UID:10001503-1750500000-1750523400@gitarrehamburg.de
SUMMARY:Flamenco-Workshop mit Emma CampÃ s | 21.06.2025
DESCRIPTION:21.06.2025 | Flamenco-Workshop mit Emma CampÃ s\n \nOrt: Albert-Schweitzer-Schule\, 22337 Hamburg\nUhrzeit: 10:00-12:30 Uhr\, 14:00-16:30 Uhr\nVeranstalter: GitarreHamburg.de gGmbH\nTeilnahmebeitrag: 85\,00â‚¬\, erm. 68\,00â‚¬ inkl. Eintritt zum Konzert am 20.06.2025 \nDer Kurs richtet sich an Neulinge des Flamencos aber auch an fortgeschrittene Spieler*innen. Es werden grundlegende Flamenco-Techniken\, â€“ Rhythmen und -Stile erarbeitet. Insbesondere fÃ¼r klassische Gitarrist*innen und Lehrer*innenÂ  sollte der Kurs spannende Einblicke bieten. Die FÃ¤higkeit\, Noten zu lesen\, ist nicht erforderlich.\nIm Teilnahmebeitrag ist der Eintritt zum Konzert am 20.06.2025 mit Emma Campas im Instituto Cervantes enthalten.\n\n\n\n  \n  \n  \nAnforderungen | Um mitmachen zu kÃ¶nnen muss man Ã¼brigens selbst kein*e Meister*in sein. Bei den Kursen zur Konzertgitarre bestimmt der/die Teilnehmer*in selbst\, wie hoch die Anforderungen sind\, da vorbereitete StÃ¼cke nach eigener Wahl mitgebracht werden. Aus den Ã¼brigen Workshops kann man sich schon mit geringen Grundlagen viele wertvolle Anregungen und Tipps mitnehmen\, mit denen man dann zukÃ¼nftig selbst gut weiterÃ¼ben kann. Alle Dozenten sind trotz ihrer Prominenz sehr freundliche Menschen und in der Lage zur Binnendifferenzierung. So kÃ¶nnen sie in den Kursen auf die unterschiedlichsten Spielniveaus eingehen. Um dabei zu sein reicht es normalerweise aus mit den gÃ¤ngigsten Akkordgriffen und -wechseln (auch etwas Barrespiel) sowie etwas Single-Note-Spiel (Melodiespiel) und dem Spiel von Akkordzerlegungen vertraut zu sein.
URL:https://gitarrehamburg.de/event/flamenco-workshop-mit-emma-campas-21-06-2025/
LOCATION:Albert-Schweitzer-Schule\, Hamburg\, Hamburg\, 22337\, Deutschland
CATEGORIES:GITARRENTAGE,GITARRENTAGE | KURSE-WORKSHOPS
ATTACH;FMTTYPE=image/jpeg:https://gitarrehamburg.de/wp-content/uploads/2025/02/Emma-Campas-Workshop-1.jpg
ORGANIZER;CN="GitarreHamburg.de gGmbH":MAILTO:info@gitarrehamburg.de
END:VEVENT
END:VCALENDAR