BEGIN:VCALENDAR
VERSION:2.0
PRODID:-//GitarreHamburg - ECPv6.2.6//NONSGML v1.0//EN
CALSCALE:GREGORIAN
METHOD:PUBLISH
X-WR-CALNAME:GitarreHamburg
X-ORIGINAL-URL:https://gitarrehamburg.de
X-WR-CALDESC:Veranstaltungen für GitarreHamburg
REFRESH-INTERVAL;VALUE=DURATION:PT1H
X-Robots-Tag:noindex
X-PUBLISHED-TTL:PT1H
BEGIN:VTIMEZONE
TZID:Europe/Berlin
BEGIN:DAYLIGHT
TZOFFSETFROM:+0100
TZOFFSETTO:+0200
TZNAME:CEST
DTSTART:20250330T010000
END:DAYLIGHT
BEGIN:STANDARD
TZOFFSETFROM:+0200
TZOFFSETTO:+0100
TZNAME:CET
DTSTART:20251026T010000
END:STANDARD
END:VTIMEZONE
BEGIN:VEVENT
DTSTART;TZID=Europe/Berlin:20250330T180000
DTEND;TZID=Europe/Berlin:20250330T200000
DTSTAMP:20260421T165124
CREATED:20250319T113853Z
LAST-MODIFIED:20250319T113853Z
UID:10001509-1743357600-1743364800@gitarrehamburg.de
SUMMARY:Mehmet Ergin - Solo
DESCRIPTION:Mehmet Ergin entführt sein Publikum in eine Klangwelt\, die orientalische Melodien\, klassische Harmonik und jazzige Improvisationen miteinander vereint. Seine Musik ist lebendig und vielseitig – mal sphärisch\, mal rhythmisch – und lädt dazu ein\, sich vollkommen in ihr zu verlieren.\nJedes Konzert wird zu einer musikalischen Reise\, die durch die Freiheit der Improvisation ständig neue\, überraschende Wendungen nimmt. Abgerundet wird das Erlebnis durch kleine Geschichten\, die von der Mystik des Orients erzählen und die Musik auf besondere Weise ergänzen.
URL:https://gitarrehamburg.de/event/mehmet-ergin-solo/
LOCATION:Mittelhof Gessin\, Gessin 7a\, Basedow OT Gessin\, 17139
CATEGORIES:EXTERN,KONZERTE
ATTACH;FMTTYPE=image/jpeg:https://gitarrehamburg.de/wp-content/uploads/2025/03/Mehmet-Solo-©Albrecht-Barth-2025-scaled.jpg
END:VEVENT
END:VCALENDAR