BEGIN:VCALENDAR
VERSION:2.0
PRODID:-//GitarreHamburg - ECPv6.2.6//NONSGML v1.0//EN
CALSCALE:GREGORIAN
METHOD:PUBLISH
X-ORIGINAL-URL:https://gitarrehamburg.de
X-WR-CALDESC:Veranstaltungen für GitarreHamburg
REFRESH-INTERVAL;VALUE=DURATION:PT1H
X-Robots-Tag:noindex
X-PUBLISHED-TTL:PT1H
BEGIN:VTIMEZONE
TZID:Europe/Berlin
BEGIN:DAYLIGHT
TZOFFSETFROM:+0100
TZOFFSETTO:+0200
TZNAME:CEST
DTSTART:20240331T010000
END:DAYLIGHT
BEGIN:STANDARD
TZOFFSETFROM:+0200
TZOFFSETTO:+0100
TZNAME:CET
DTSTART:20241027T010000
END:STANDARD
END:VTIMEZONE
BEGIN:VEVENT
DTSTART;TZID=Europe/Berlin:20240602T180000
DTEND;TZID=Europe/Berlin:20240602T180000
DTSTAMP:20260424T232139
CREATED:20240530T105610Z
LAST-MODIFIED:20240530T105610Z
UID:10001485-1717351200-1717351200@gitarrehamburg.de
SUMMARY:Musikzeit Epiphanien - El Contraste: Klänge und Tänze Andalusiens
DESCRIPTION:Das Leben ist voller Kontraste und die Musik spiegelt diese wider. Mit dem bereits durch eine Förderung des Deutschen Musikrates ausgezeichneten Konzertprojekt EL CONTRASTE nimmt das Duo Cantolegno das Publikum mit auf eine fesselnde Reise durch die Gegensätze in der andalusischen und lateinamerikanischen Musik. Von den maurisch-spanischen Einflüssen des Flamenco mit rhythmischem Händeklatschen\, lebhaften Rufen und sehnsuchtsvollen Melodien bis hin zu den temperamentvollen Tangoklängen Lateinamerikas\, geprägt von Melancholie und Leidenschaft\, präsentiert das Duo ausgewählte Eigenkompositionen. Inspiriert von gemeinsamen Reisen und Erlebnissen erzählen diese Stücke in einer berührenden musikalischen Darbietung ganz persönliche Geschichten und vereinen die vielfältigen Kontraste von Flamenco und Tango.
URL:https://gitarrehamburg.de/event/musikzeit-epiphanien-el-contraste-klaenge-und-taenze-andalusiens/
LOCATION:Epiphanienkirche\, Großheidestraße 44\, Hamburg-Winterhude\, 22303
CATEGORIES:EXTERN,KONZERTE
ATTACH;FMTTYPE=image/jpeg:https://gitarrehamburg.de/wp-content/uploads/2024/05/Foto-Duo-Cantolegno-Gunnar-Nicolaus-scaled.jpeg
ORGANIZER;CN="Ev.-luth. Epiphaniengemeinde Hamburg":MAILTO:kirche@epiphaniengemeinde.de
END:VEVENT
END:VCALENDAR