BEGIN:VCALENDAR
VERSION:2.0
PRODID:-//GitarreHamburg - ECPv6.2.6//NONSGML v1.0//EN
CALSCALE:GREGORIAN
METHOD:PUBLISH
X-WR-CALNAME:GitarreHamburg
X-ORIGINAL-URL:https://gitarrehamburg.de
X-WR-CALDESC:Veranstaltungen für GitarreHamburg
REFRESH-INTERVAL;VALUE=DURATION:PT1H
X-Robots-Tag:noindex
X-PUBLISHED-TTL:PT1H
BEGIN:VTIMEZONE
TZID:Europe/Berlin
BEGIN:DAYLIGHT
TZOFFSETFROM:+0100
TZOFFSETTO:+0200
TZNAME:CEST
DTSTART:20240331T010000
END:DAYLIGHT
BEGIN:STANDARD
TZOFFSETFROM:+0200
TZOFFSETTO:+0100
TZNAME:CET
DTSTART:20241027T010000
END:STANDARD
END:VTIMEZONE
BEGIN:VEVENT
DTSTART;TZID=Europe/Berlin:20240525T190000
DTEND;TZID=Europe/Berlin:20240525T203000
DTSTAMP:20260424T220438
CREATED:20240510T143635Z
LAST-MODIFIED:20240726T113507Z
UID:10001469-1716663600-1716669000@gitarrehamburg.de
SUMMARY:Zobel-Gitarrenschule meets JGOH
DESCRIPTION:Auf der ersten Etappe seiner Italien-Reise konzertiert das JugendGitarrenOrchester Hamburg gemeinsam mit dem Gitarrenorchester der &#8220;Zobel Gitarrenschule&#8221; in Bad Nauheim. \nSeit vielen Jahren steht der Name Konstantin Zobel für exquisiten und motivierenden Gitarrenunterricht in Bad Nauheim. Mit den Schüler*innen seiner &#8220;Zobel Gitarrenschule&#8221; pflegt er stets auch intensiv das Spiel im Gitarrenorchester und unternahm unter anderem schon vier Tourneen in die USA mit ihnen. Neben seinen zahlreichen Aktivitäten veranstaltete Zobel in der Vergangenheit mit dem Gofi-Contest einen der interessantesten und innovativsten Wettbewerbe für Gitarrenorchester. Weitere Informationen: Zobel-Gitarrenschule auf facebook \nVielen dank an die Musikschule Friedberg\, die für das Konzert ihre Räume zur Verfügung stellt. \nGefördert von:
URL:https://gitarrehamburg.de/event/zobel-gitarrenschule-meets-jgoh/
LOCATION:Musikschule Friedberg\, Kaiserstr. 21\, Friedberg\, 61169
CATEGORIES:JGOH
ATTACH;FMTTYPE=image/jpeg:https://gitarrehamburg.de/wp-content/uploads/2024/05/4-1-scaled.jpg
END:VEVENT
END:VCALENDAR